BEGIN:VCALENDAR
VERSION:2.0
PRODID:-//Maraîchers - ECPv6.15.17.1//NONSGML v1.0//EN
CALSCALE:GREGORIAN
METHOD:PUBLISH
X-ORIGINAL-URL:https://notre-quartier.ch/maraichers
X-WR-CALDESC:Évènements pour Maraîchers
REFRESH-INTERVAL;VALUE=DURATION:PT1H
X-Robots-Tag:noindex
X-PUBLISHED-TTL:PT1H
BEGIN:VTIMEZONE
TZID:Europe/Paris
BEGIN:DAYLIGHT
TZOFFSETFROM:+0100
TZOFFSETTO:+0200
TZNAME:CEST
DTSTART:20240331T010000
END:DAYLIGHT
BEGIN:STANDARD
TZOFFSETFROM:+0200
TZOFFSETTO:+0100
TZNAME:CET
DTSTART:20241027T010000
END:STANDARD
BEGIN:DAYLIGHT
TZOFFSETFROM:+0100
TZOFFSETTO:+0200
TZNAME:CEST
DTSTART:20250330T010000
END:DAYLIGHT
BEGIN:STANDARD
TZOFFSETFROM:+0200
TZOFFSETTO:+0100
TZNAME:CET
DTSTART:20251026T010000
END:STANDARD
BEGIN:DAYLIGHT
TZOFFSETFROM:+0100
TZOFFSETTO:+0200
TZNAME:CEST
DTSTART:20260329T010000
END:DAYLIGHT
BEGIN:STANDARD
TZOFFSETFROM:+0200
TZOFFSETTO:+0100
TZNAME:CET
DTSTART:20261025T010000
END:STANDARD
END:VTIMEZONE
BEGIN:VEVENT
DTSTART;TZID=Europe/Paris:20250310T183000
DTEND;TZID=Europe/Paris:20250310T200000
DTSTAMP:20260421T121355
CREATED:20250219T225823Z
LAST-MODIFIED:20250225T140217Z
UID:10000244-1741631400-1741636800@notre-quartier.ch
SUMMARY:Invitation à la réunion sur le potager
DESCRIPTION:Chers voisins et voisines\, \nLe groupe de travail sur le potager invite les membres de l’association intéressés à une réunion pour discuter de la préparation et de la gestion de notre futur potager. Si vous souhaitez participer activement aux différentes étapes du projet\, cette rencontre est faite pour vous ! \nNous aurons également le plaisir d’accueillir Daniel Whittle\, responsable de l’association  » La Ferme en Ville « \, qui accompagne la mise en place de potagers urbains à Genève. Il nous présentera les activités de son association ainsi que le soutien qu’il pourrait nous apporter pour lancer notre projet. \nC’est une belle occasion pour échanger des idées\, poser vos questions et donner un coup de pouce au projet. On espère vous voir nombreux ! \nÀ très bientôt\,  
URL:https://notre-quartier.ch/maraichers/agenda/invitation-a-la-reunion-sur-le-potager/
LOCATION:Salle commune au 6e (Maraîchers 4)
ATTACH;FMTTYPE=image/png:https://notre-quartier.ch/maraichers/wp-content/uploads/sites/8/2025/02/Seance-Potager-e1740006589726.png
END:VEVENT
END:VCALENDAR