BEGIN:VCALENDAR
VERSION:2.0
PRODID:-//Maraîchers - ECPv6.15.17.1//NONSGML v1.0//EN
CALSCALE:GREGORIAN
METHOD:PUBLISH
X-ORIGINAL-URL:https://notre-quartier.ch/maraichers
X-WR-CALDESC:Évènements pour Maraîchers
REFRESH-INTERVAL;VALUE=DURATION:PT1H
X-Robots-Tag:noindex
X-PUBLISHED-TTL:PT1H
BEGIN:VTIMEZONE
TZID:Europe/Paris
BEGIN:DAYLIGHT
TZOFFSETFROM:+0100
TZOFFSETTO:+0200
TZNAME:CEST
DTSTART:20240331T010000
END:DAYLIGHT
BEGIN:STANDARD
TZOFFSETFROM:+0200
TZOFFSETTO:+0100
TZNAME:CET
DTSTART:20241027T010000
END:STANDARD
BEGIN:DAYLIGHT
TZOFFSETFROM:+0100
TZOFFSETTO:+0200
TZNAME:CEST
DTSTART:20250330T010000
END:DAYLIGHT
BEGIN:STANDARD
TZOFFSETFROM:+0200
TZOFFSETTO:+0100
TZNAME:CET
DTSTART:20251026T010000
END:STANDARD
BEGIN:DAYLIGHT
TZOFFSETFROM:+0100
TZOFFSETTO:+0200
TZNAME:CEST
DTSTART:20260329T010000
END:DAYLIGHT
BEGIN:STANDARD
TZOFFSETFROM:+0200
TZOFFSETTO:+0100
TZNAME:CET
DTSTART:20261025T010000
END:STANDARD
END:VTIMEZONE
BEGIN:VEVENT
DTSTART;TZID=Europe/Paris:20250205T183000
DTEND;TZID=Europe/Paris:20250205T200000
DTSTAMP:20260421T134412
CREATED:20250120T160031Z
LAST-MODIFIED:20250210T065119Z
UID:10000239-1738780200-1738785600@notre-quartier.ch
SUMMARY:Lancement des Groupes de travail
DESCRIPTION:Il est venu le moment de réunir les différents groupes de travail pour une première rencontre. Les personnes déjà inscrites à un groupe de travail ont reçu un mail spécifique à ce sujet\, afin d’éviter trop de communication sur ce canal. \nTu n’as rien reçu et tu souhaites t’investir dans un groupe de travail ? C’est sûrement que tu n’as pas encore rempli le formulaire de l’association des habitant·es → https://forms.gle/cixx11eDu27LQaGV6 (:
URL:https://notre-quartier.ch/maraichers/agenda/lancement-des-groupes-de-travail/
LOCATION:Salle commune au 6e (Maraîchers 4)
CATEGORIES:Public
ATTACH;FMTTYPE=image/jpeg:https://notre-quartier.ch/maraichers/wp-content/uploads/sites/8/2025/01/AdobeStock_291895827ed.jpg
END:VEVENT
END:VCALENDAR