BEGIN:VCALENDAR
VERSION:2.0
PRODID:-//Maraîchers - ECPv6.15.17.1//NONSGML v1.0//EN
CALSCALE:GREGORIAN
METHOD:PUBLISH
X-ORIGINAL-URL:https://notre-quartier.ch/maraichers
X-WR-CALDESC:Évènements pour Maraîchers
REFRESH-INTERVAL;VALUE=DURATION:PT1H
X-Robots-Tag:noindex
X-PUBLISHED-TTL:PT1H
BEGIN:VTIMEZONE
TZID:Europe/Paris
BEGIN:DAYLIGHT
TZOFFSETFROM:+0100
TZOFFSETTO:+0200
TZNAME:CEST
DTSTART:20230326T010000
END:DAYLIGHT
BEGIN:STANDARD
TZOFFSETFROM:+0200
TZOFFSETTO:+0100
TZNAME:CET
DTSTART:20231029T010000
END:STANDARD
BEGIN:DAYLIGHT
TZOFFSETFROM:+0100
TZOFFSETTO:+0200
TZNAME:CEST
DTSTART:20240331T010000
END:DAYLIGHT
BEGIN:STANDARD
TZOFFSETFROM:+0200
TZOFFSETTO:+0100
TZNAME:CET
DTSTART:20241027T010000
END:STANDARD
BEGIN:DAYLIGHT
TZOFFSETFROM:+0100
TZOFFSETTO:+0200
TZNAME:CEST
DTSTART:20250330T010000
END:DAYLIGHT
BEGIN:STANDARD
TZOFFSETFROM:+0200
TZOFFSETTO:+0100
TZNAME:CET
DTSTART:20251026T010000
END:STANDARD
END:VTIMEZONE
BEGIN:VEVENT
DTSTART;TZID=Europe/Paris:20241012T110000
DTEND;TZID=Europe/Paris:20241012T110000
DTSTAMP:20260422T004912
CREATED:20231206T125035Z
LAST-MODIFIED:20241011T172739Z
UID:10000234-1728730800-1728730800@notre-quartier.ch
SUMMARY:Apéritif de bienvenue !
DESCRIPTION:Venez partager le verre de l’amitié à la première rencontre du voisinage !  \nAu programme \n\nMot de bienvenue\nPrésentation de Enoki\nPetite visite des espaces communs\nVerre de l’amitié offert ! Si tu le souhaites\, n‘hésite pas à compléter l’apéritif canadien avec ta propre spécialité !\n\nQuelques surprises à gagner de commerçants locaux !\n\nQuand ? samedi 12 octobre 2024 \nÀ quelle heure ? 11h00 \nOù ? À la terrasse du bâtiment 4 (dernier étage).  \nRecommandation : Nous sommes optimiste mais n’hésitez pas à vous habillez chaudement !
URL:https://notre-quartier.ch/maraichers/agenda/aperitif-de-bienvenue/
CATEGORIES:Public
ATTACH;FMTTYPE=image/jpeg:https://notre-quartier.ch/maraichers/wp-content/uploads/sites/8/2023/12/Aperitifdebienvenue_MAR_WhatsApp_final.jpg
END:VEVENT
BEGIN:VEVENT
DTSTART;TZID=Europe/Paris:20241030T183000
DTEND;TZID=Europe/Paris:20241030T183000
DTSTAMP:20260422T004912
CREATED:20240701T142436Z
LAST-MODIFIED:20241014T122740Z
UID:10000237-1730313000-1730313000@notre-quartier.ch
SUMMARY:Séance d'information association & lieux communs
DESCRIPTION:Jardins potagers\, atelier vélo\, atelier de bricolage\, salle de jeux et de rencontre\, atelier de peinture\, … ? \nLes espaces communs présents aux Maraîchers 2-4-6 peuvent se prêter à une multitude d’activités et projets ! Une association d’habitant·es sera constituée dans le but d’animer ces espaces communs et de gérer leur utilisation. \nTu souhaites imaginer ces espaces et ton nouveau lieu de vie  ? \nAlors participe à cette 1ère séance d’information ! \nTu peux également partager une idée ou un projet que tu souhaites soutenir en remplissant ce formulaire jusqu’au 23 octobre ! \nAu programme :  \n\nAccueil \nPrésentation et validation des statuts et buts de l’association\nDiscussion sur la formation du comité initial\nDiscussion sur les espaces communs\nApéritif \n\nQuand ? Mercredi 30 octobre à 18h30 \nOù ? Atelier au sous-sol du bâtiment 6 \nInscription ? Souhaitée\, cliquez ici
URL:https://notre-quartier.ch/maraichers/agenda/seance-dinformation-association-lieux-communs/
CATEGORIES:Public
ATTACH;FMTTYPE=image/jpeg:https://notre-quartier.ch/maraichers/wp-content/uploads/sites/8/2023/12/MAR-Seance-info-.jpg
END:VEVENT
END:VCALENDAR