BEGIN:VCALENDAR
VERSION:2.0
PRODID:-//Les Mosaïques - ECPv6.15.17.1//NONSGML v1.0//EN
CALSCALE:GREGORIAN
METHOD:PUBLISH
X-WR-CALNAME:Les Mosaïques
X-ORIGINAL-URL:https://notre-quartier.ch/LesMosaiques
X-WR-CALDESC:Évènements pour Les Mosaïques
REFRESH-INTERVAL;VALUE=DURATION:PT1H
X-Robots-Tag:noindex
X-PUBLISHED-TTL:PT1H
BEGIN:VTIMEZONE
TZID:Europe/Paris
BEGIN:DAYLIGHT
TZOFFSETFROM:+0100
TZOFFSETTO:+0200
TZNAME:CEST
DTSTART:20240331T010000
END:DAYLIGHT
BEGIN:STANDARD
TZOFFSETFROM:+0200
TZOFFSETTO:+0100
TZNAME:CET
DTSTART:20241027T010000
END:STANDARD
BEGIN:DAYLIGHT
TZOFFSETFROM:+0100
TZOFFSETTO:+0200
TZNAME:CEST
DTSTART:20250330T010000
END:DAYLIGHT
BEGIN:STANDARD
TZOFFSETFROM:+0200
TZOFFSETTO:+0100
TZNAME:CET
DTSTART:20251026T010000
END:STANDARD
BEGIN:DAYLIGHT
TZOFFSETFROM:+0100
TZOFFSETTO:+0200
TZNAME:CEST
DTSTART:20260329T010000
END:DAYLIGHT
BEGIN:STANDARD
TZOFFSETFROM:+0200
TZOFFSETTO:+0100
TZNAME:CET
DTSTART:20261025T010000
END:STANDARD
BEGIN:DAYLIGHT
TZOFFSETFROM:+0100
TZOFFSETTO:+0200
TZNAME:CEST
DTSTART:20270328T010000
END:DAYLIGHT
BEGIN:STANDARD
TZOFFSETFROM:+0200
TZOFFSETTO:+0100
TZNAME:CET
DTSTART:20271031T010000
END:STANDARD
END:VTIMEZONE
BEGIN:VEVENT
DTSTART;TZID=Europe/Paris:20260306T183000
DTEND;TZID=Europe/Paris:20260306T200000
DTSTAMP:20260422T121429
CREATED:20251105T090549Z
LAST-MODIFIED:20251105T090623Z
UID:10000102-1772821800-1772827200@notre-quartier.ch
SUMMARY:Assemblée générale
DESCRIPTION:L’assemblée générale est l’occasion pour le comité de faire un récapitulatif des activités et des finances de 2025\, ainsi que d’évoquer le programme de l’année 2026. \nC’est aussi une belle occasion pour se retrouver et partager un moment d’échange! \nNous nous réjouissons de vous retrouver\, venez en nombre 🙂 \nInscription\n\nUn petit mail à association.lesmosaiques@gmail.com ou en croisant un membre du comité dans le quartier 😉 \nPas encore membre ?\nL’assemblée générale est réservée aux membres. Vous pouvez toutefois participer à l’assemblée pour devenir membre\, ou alors n’hésitez pas à vous inscrire en suivant les informations à ce lien. \n 
URL:https://notre-quartier.ch/LesMosaiques/agenda/assemblee-generale/
LOCATION:Salle communautaire Althys (Bâtiment 8J)
ATTACH;FMTTYPE=image/png:https://notre-quartier.ch/LesMosaiques/wp-content/uploads/sites/7/2025/11/MOS_AG_26.png
END:VEVENT
BEGIN:VEVENT
DTSTART;TZID=Europe/Paris:20250509T183000
DTEND;TZID=Europe/Paris:20250509T200000
DTSTAMP:20260422T121429
CREATED:20250225T120922Z
LAST-MODIFIED:20250410T150733Z
UID:10000095-1746815400-1746820800@notre-quartier.ch
SUMMARY:Assemblée générale et apéritif des membres
DESCRIPTION:L’assemblée générale est l’occasion pour le comité de faire un récapitulatif des activités et des finances de 2024\, ainsi que d’évoquer le programme de l’année 2025. \nC’est aussi une belle occasion pour se retrouver et partager un généreux apéritif\, qui vous sera offert suite à l’assemblée 🙂 \nNous nous réjouissons de vous retrouver\, venez en nombre 🙂 \nInscription\n\nUn petit mail à association.lesmosaiques@gmail.com ou en croisant un membre du comité dans le quartier 😉 \nOrdre du jour\n1. Accueil \n2. Approbation du PV de la dernière AG \n3. Année 2024 \n\nRapport d’activités\nComptes annuels\nRapport des vérificateur·trices\n\n4. Programme 2025 \n5. Élections \n\nComité\nVérificateur·trices de comptes\n\n6. Divers \nLe PV de la dernière assemblée général est consultable à ce lien. \nPas encore membre ?\nL’assemblée générale est réservée aux membres. Vous pouvez toutefois participer à l’assemblée pour devenir membre\, ou alors n’hésitez pas à vous inscrire en suivant les informations à ce lien. \n 
URL:https://notre-quartier.ch/LesMosaiques/agenda/assemblee-generale-et-aperitif-des-membres/
LOCATION:Salle communautaire Althys (Bâtiment 8J)
ATTACH;FMTTYPE=image/png:https://notre-quartier.ch/LesMosaiques/wp-content/uploads/sites/7/2025/02/MOS_AG.png
END:VEVENT
END:VCALENDAR