BEGIN:VCALENDAR
VERSION:2.0
PRODID:-//Les Mosaïques - ECPv6.15.17.1//NONSGML v1.0//EN
CALSCALE:GREGORIAN
METHOD:PUBLISH
X-ORIGINAL-URL:https://notre-quartier.ch/LesMosaiques
X-WR-CALDESC:Évènements pour Les Mosaïques
REFRESH-INTERVAL;VALUE=DURATION:PT1H
X-Robots-Tag:noindex
X-PUBLISHED-TTL:PT1H
BEGIN:VTIMEZONE
TZID:Europe/Paris
BEGIN:DAYLIGHT
TZOFFSETFROM:+0100
TZOFFSETTO:+0200
TZNAME:CEST
DTSTART:20240331T010000
END:DAYLIGHT
BEGIN:STANDARD
TZOFFSETFROM:+0200
TZOFFSETTO:+0100
TZNAME:CET
DTSTART:20241027T010000
END:STANDARD
BEGIN:DAYLIGHT
TZOFFSETFROM:+0100
TZOFFSETTO:+0200
TZNAME:CEST
DTSTART:20250330T010000
END:DAYLIGHT
BEGIN:STANDARD
TZOFFSETFROM:+0200
TZOFFSETTO:+0100
TZNAME:CET
DTSTART:20251026T010000
END:STANDARD
BEGIN:DAYLIGHT
TZOFFSETFROM:+0100
TZOFFSETTO:+0200
TZNAME:CEST
DTSTART:20260329T010000
END:DAYLIGHT
BEGIN:STANDARD
TZOFFSETFROM:+0200
TZOFFSETTO:+0100
TZNAME:CET
DTSTART:20261025T010000
END:STANDARD
END:VTIMEZONE
BEGIN:VEVENT
DTSTART;TZID=Europe/Paris:20251031T180000
DTEND;TZID=Europe/Paris:20251031T210000
DTSTAMP:20260420T110806
CREATED:20250408T111526Z
LAST-MODIFIED:20251024T123915Z
UID:10000099-1761933600-1761944400@notre-quartier.ch
SUMMARY:Halloween du quartier
DESCRIPTION:Chères voisines\, chers voisins\, \nL’association des habitant·es a le plaisir de vous inviter à la fête d’Halloween qui aura lieu le prochain vendredi 31 octobre 2025 dans notre quartier\, sur la place centrale. \nAu programme : \n\n\n\n\n18h00\, collecte de bonbons *\n19h00\, souper canadien **\n\n* Afin de déranger le moins possible au voisinage\, les enfants du quartier sonneront qu’aux portes des appartements ayant un petit symbole ou la décoration d’Halloween.\n**Des boissons et de la soupe à la courge seront mises à disposition. Toutes vos contributions seront les bienvenues. Pour éviter le gaspillage\, nous serons très reconnaissants si chacun amène sa vaisselle.
URL:https://notre-quartier.ch/LesMosaiques/agenda/halloween/
LOCATION:Place centrale
ATTACH;FMTTYPE=image/png:https://notre-quartier.ch/LesMosaiques/wp-content/uploads/sites/7/2025/04/MOS_fete_halloween.png
END:VEVENT
END:VCALENDAR