BEGIN:VCALENDAR
VERSION:2.0
PRODID:-//Les Mosaïques - ECPv6.15.17.1//NONSGML v1.0//EN
CALSCALE:GREGORIAN
METHOD:PUBLISH
X-WR-CALNAME:Les Mosaïques
X-ORIGINAL-URL:https://notre-quartier.ch/LesMosaiques
X-WR-CALDESC:Évènements pour Les Mosaïques
REFRESH-INTERVAL;VALUE=DURATION:PT1H
X-Robots-Tag:noindex
X-PUBLISHED-TTL:PT1H
BEGIN:VTIMEZONE
TZID:Europe/Paris
BEGIN:DAYLIGHT
TZOFFSETFROM:+0100
TZOFFSETTO:+0200
TZNAME:CEST
DTSTART:20240331T010000
END:DAYLIGHT
BEGIN:STANDARD
TZOFFSETFROM:+0200
TZOFFSETTO:+0100
TZNAME:CET
DTSTART:20241027T010000
END:STANDARD
BEGIN:DAYLIGHT
TZOFFSETFROM:+0100
TZOFFSETTO:+0200
TZNAME:CEST
DTSTART:20250330T010000
END:DAYLIGHT
BEGIN:STANDARD
TZOFFSETFROM:+0200
TZOFFSETTO:+0100
TZNAME:CET
DTSTART:20251026T010000
END:STANDARD
BEGIN:DAYLIGHT
TZOFFSETFROM:+0100
TZOFFSETTO:+0200
TZNAME:CEST
DTSTART:20260329T010000
END:DAYLIGHT
BEGIN:STANDARD
TZOFFSETFROM:+0200
TZOFFSETTO:+0100
TZNAME:CET
DTSTART:20261025T010000
END:STANDARD
END:VTIMEZONE
BEGIN:VEVENT
DTSTART;TZID=Europe/Paris:20250327T174500
DTEND;TZID=Europe/Paris:20250327T190000
DTSTAMP:20260423T010153
CREATED:20250225T121132Z
LAST-MODIFIED:20250225T122053Z
UID:10000097-1743097500-1743102000@notre-quartier.ch
SUMMARY:Lancement de la saison de jardinage
DESCRIPTION:C’est la reprise des jardins aux Mosaïques ! Rendez-vous directement sur place pour le démarrage de cette 2e saison 🙂 Un premier atelier sur les légumes d’été 🙂 \nLe détail des rencontres de la saison 2025 ci-dessous ! Ces rencontres auront lieu de 18h à 19h. \nJEUDI 27 MARS | Lancement de la saison et légumes de printemps (dès 17h45) \nMERCREDI 7 MAI | Compostage\, paillage et fertilisation \nLUNDI 19 mai | Légumes d’été \nMERCREDI 4 JUIN | Tuteurage\, taille et prévention des maladies \nMERCREDI 16 JUILLET : Traitements bio \nMERCREDI 20 AOÛT | Apéro fin de saison \nMERCREDI 10 SEPTEMBRE | Légumes d’automne \nMERCREDI 1 OCTOBRE | Hivernage
URL:https://notre-quartier.ch/LesMosaiques/agenda/lancement-de-la-saison-du-jardinage/
LOCATION:Aux jardins !
ATTACH;FMTTYPE=image/png:https://notre-quartier.ch/LesMosaiques/wp-content/uploads/sites/7/2025/02/MOS_lancement_jardins-1.png
END:VEVENT
END:VCALENDAR