BEGIN:VCALENDAR
VERSION:2.0
PRODID:-//Les Mosaïques - ECPv6.15.17.1//NONSGML v1.0//EN
CALSCALE:GREGORIAN
METHOD:PUBLISH
X-ORIGINAL-URL:https://notre-quartier.ch/LesMosaiques
X-WR-CALDESC:Évènements pour Les Mosaïques
REFRESH-INTERVAL;VALUE=DURATION:PT1H
X-Robots-Tag:noindex
X-PUBLISHED-TTL:PT1H
BEGIN:VTIMEZONE
TZID:Europe/Paris
BEGIN:DAYLIGHT
TZOFFSETFROM:+0100
TZOFFSETTO:+0200
TZNAME:CEST
DTSTART:20230326T010000
END:DAYLIGHT
BEGIN:STANDARD
TZOFFSETFROM:+0200
TZOFFSETTO:+0100
TZNAME:CET
DTSTART:20231029T010000
END:STANDARD
BEGIN:DAYLIGHT
TZOFFSETFROM:+0100
TZOFFSETTO:+0200
TZNAME:CEST
DTSTART:20240331T010000
END:DAYLIGHT
BEGIN:STANDARD
TZOFFSETFROM:+0200
TZOFFSETTO:+0100
TZNAME:CET
DTSTART:20241027T010000
END:STANDARD
BEGIN:DAYLIGHT
TZOFFSETFROM:+0100
TZOFFSETTO:+0200
TZNAME:CEST
DTSTART:20250330T010000
END:DAYLIGHT
BEGIN:STANDARD
TZOFFSETFROM:+0200
TZOFFSETTO:+0100
TZNAME:CET
DTSTART:20251026T010000
END:STANDARD
END:VTIMEZONE
BEGIN:VEVENT
DTSTART;TZID=Europe/Paris:20240507T080000
DTEND;TZID=Europe/Paris:20240507T170000
DTSTAMP:20260423T131119
CREATED:20231018T100940Z
LAST-MODIFIED:20240319T131225Z
UID:10000080-1715068800-1715101200@notre-quartier.ch
SUMMARY:Atelier jardins : Plantation des petits fruits
DESCRIPTION:
URL:https://notre-quartier.ch/LesMosaiques/agenda/atelier-jardins-plantation-des-petits-fruits/
ATTACH;FMTTYPE=image/png:https://notre-quartier.ch/LesMosaiques/wp-content/uploads/sites/7/2023/10/Capture-decran-2023-11-08-a-15.19.49.png
END:VEVENT
BEGIN:VEVENT
DTSTART;TZID=Europe/Paris:20240521T174500
DTEND;TZID=Europe/Paris:20240521T191500
DTSTAMP:20260423T131119
CREATED:20231108T133923Z
LAST-MODIFIED:20240319T131253Z
UID:10000081-1716313500-1716318900@notre-quartier.ch
SUMMARY:Atelier jardins: Plantation des légumes d'été et association de plantes
DESCRIPTION:
URL:https://notre-quartier.ch/LesMosaiques/agenda/atelier-jardins-plantation-des-legumes-dete-et-association-de-plantes/
ATTACH;FMTTYPE=image/png:https://notre-quartier.ch/LesMosaiques/wp-content/uploads/sites/7/2023/11/Capture-decran-2023-11-08-a-14.38.45.png
END:VEVENT
BEGIN:VEVENT
DTSTART;VALUE=DATE:20240531
DTEND;VALUE=DATE:20240601
DTSTAMP:20260423T131119
CREATED:20230413T092528Z
LAST-MODIFIED:20230719T115319Z
UID:10000070-1717113600-1717199999@notre-quartier.ch
SUMMARY:Fête des voisin·es
DESCRIPTION:Plus de détails seront communiqués pour cette rencontre entre voisin·es qui aura lieu en mai 2024 !
URL:https://notre-quartier.ch/LesMosaiques/agenda/fete-des-voisin%c2%b7es/
ATTACH;FMTTYPE=image/jpeg:https://notre-quartier.ch/LesMosaiques/wp-content/uploads/sites/7/2023/04/decorations-lumieres-festives-triangle-scaled.jpg
END:VEVENT
END:VCALENDAR