BEGIN:VCALENDAR
VERSION:2.0
PRODID:-//Les Mosaïques - ECPv6.15.17.1//NONSGML v1.0//EN
CALSCALE:GREGORIAN
METHOD:PUBLISH
X-WR-CALNAME:Les Mosaïques
X-ORIGINAL-URL:https://notre-quartier.ch/LesMosaiques
X-WR-CALDESC:Évènements pour Les Mosaïques
REFRESH-INTERVAL;VALUE=DURATION:PT1H
X-Robots-Tag:noindex
X-PUBLISHED-TTL:PT1H
BEGIN:VTIMEZONE
TZID:Europe/Paris
BEGIN:DAYLIGHT
TZOFFSETFROM:+0100
TZOFFSETTO:+0200
TZNAME:CEST
DTSTART:20230326T010000
END:DAYLIGHT
BEGIN:STANDARD
TZOFFSETFROM:+0200
TZOFFSETTO:+0100
TZNAME:CET
DTSTART:20231029T010000
END:STANDARD
BEGIN:DAYLIGHT
TZOFFSETFROM:+0100
TZOFFSETTO:+0200
TZNAME:CEST
DTSTART:20240331T010000
END:DAYLIGHT
BEGIN:STANDARD
TZOFFSETFROM:+0200
TZOFFSETTO:+0100
TZNAME:CET
DTSTART:20241027T010000
END:STANDARD
BEGIN:DAYLIGHT
TZOFFSETFROM:+0100
TZOFFSETTO:+0200
TZNAME:CEST
DTSTART:20250330T010000
END:DAYLIGHT
BEGIN:STANDARD
TZOFFSETFROM:+0200
TZOFFSETTO:+0100
TZNAME:CET
DTSTART:20251026T010000
END:STANDARD
END:VTIMEZONE
BEGIN:VEVENT
DTSTART;TZID=Europe/Paris:20240404T174500
DTEND;TZID=Europe/Paris:20240404T191500
DTSTAMP:20260423T142351
CREATED:20231018T100515Z
LAST-MODIFIED:20240319T081833Z
UID:10000076-1712252700-1712258100@notre-quartier.ch
SUMMARY:Atelier jardins : Les gestes de base et les légumes de printemps
DESCRIPTION:
URL:https://notre-quartier.ch/LesMosaiques/agenda/atelier-jardins-les-gestes-de-base-et-les-legumes-de-printemps/
ATTACH;FMTTYPE=image/png:https://notre-quartier.ch/LesMosaiques/wp-content/uploads/sites/7/2023/10/Capture-decran-2023-11-08-a-15.28.44.png
END:VEVENT
BEGIN:VEVENT
DTSTART;TZID=Europe/Paris:20240404T174500
DTEND;TZID=Europe/Paris:20240404T191500
DTSTAMP:20260423T142351
CREATED:20231018T100632Z
LAST-MODIFIED:20240319T131030Z
UID:10000077-1712252700-1712258100@notre-quartier.ch
SUMMARY:Atelier jardins : Préparation des plantons
DESCRIPTION:
URL:https://notre-quartier.ch/LesMosaiques/agenda/atelier-jardins-preparation-des-plantons/
ATTACH;FMTTYPE=image/png:https://notre-quartier.ch/LesMosaiques/wp-content/uploads/sites/7/2023/10/Capture-decran-2023-11-08-a-15.26.59.png
END:VEVENT
BEGIN:VEVENT
DTSTART;TZID=Europe/Paris:20240418T174500
DTEND;TZID=Europe/Paris:20240418T191500
DTSTAMP:20260423T142351
CREATED:20231018T100800Z
LAST-MODIFIED:20240319T131058Z
UID:10000078-1713462300-1713467700@notre-quartier.ch
SUMMARY:Atelier jardins : Compostage\, fertilisation bio\, paillage et gestion des herbes folles
DESCRIPTION:
URL:https://notre-quartier.ch/LesMosaiques/agenda/atelier-jardins-compostage-fertilisation-bio-paillage-et-gestion-des-herbes-folles/
ATTACH;FMTTYPE=image/png:https://notre-quartier.ch/LesMosaiques/wp-content/uploads/sites/7/2023/10/Capture-decran-2023-11-08-a-15.22.50.png
END:VEVENT
BEGIN:VEVENT
DTSTART;TZID=Europe/Paris:20240430T174500
DTEND;TZID=Europe/Paris:20240430T191500
DTSTAMP:20260423T142351
CREATED:20231018T100854Z
LAST-MODIFIED:20240319T131156Z
UID:10000079-1714499100-1714504500@notre-quartier.ch
SUMMARY:Atelier jardins : Semis de cucurbitacées
DESCRIPTION:
URL:https://notre-quartier.ch/LesMosaiques/agenda/atelier-jardins-semi-des-curcubitacees/
ATTACH;FMTTYPE=image/png:https://notre-quartier.ch/LesMosaiques/wp-content/uploads/sites/7/2023/10/Capture-decran-2023-11-08-a-15.20.59.png
END:VEVENT
END:VCALENDAR