BEGIN:VCALENDAR
VERSION:2.0
PRODID:-//Les Mosaïques - ECPv6.15.17.1//NONSGML v1.0//EN
CALSCALE:GREGORIAN
METHOD:PUBLISH
X-ORIGINAL-URL:https://notre-quartier.ch/LesMosaiques
X-WR-CALDESC:Évènements pour Les Mosaïques
REFRESH-INTERVAL;VALUE=DURATION:PT1H
X-Robots-Tag:noindex
X-PUBLISHED-TTL:PT1H
BEGIN:VTIMEZONE
TZID:Europe/Paris
BEGIN:DAYLIGHT
TZOFFSETFROM:+0100
TZOFFSETTO:+0200
TZNAME:CEST
DTSTART:20230326T010000
END:DAYLIGHT
BEGIN:STANDARD
TZOFFSETFROM:+0200
TZOFFSETTO:+0100
TZNAME:CET
DTSTART:20231029T010000
END:STANDARD
BEGIN:DAYLIGHT
TZOFFSETFROM:+0100
TZOFFSETTO:+0200
TZNAME:CEST
DTSTART:20240331T010000
END:DAYLIGHT
BEGIN:STANDARD
TZOFFSETFROM:+0200
TZOFFSETTO:+0100
TZNAME:CET
DTSTART:20241027T010000
END:STANDARD
BEGIN:DAYLIGHT
TZOFFSETFROM:+0100
TZOFFSETTO:+0200
TZNAME:CEST
DTSTART:20250330T010000
END:DAYLIGHT
BEGIN:STANDARD
TZOFFSETFROM:+0200
TZOFFSETTO:+0100
TZNAME:CET
DTSTART:20251026T010000
END:STANDARD
END:VTIMEZONE
BEGIN:VEVENT
DTSTART;TZID=Europe/Paris:20240308T183000
DTEND;TZID=Europe/Paris:20240308T183000
DTSTAMP:20260423T154815
CREATED:20240227T091231Z
LAST-MODIFIED:20240227T091505Z
UID:10000089-1709922600-1709922600@notre-quartier.ch
SUMMARY:Assemblée générale constitutive et apéritif
DESCRIPTION:Au programme :  \n\nAccueil\nCréation de l’association\nAdoption des statuts (cliquez ICI pour consulter les statuts) \nÉlection du comité\nFixation des cotisations\nÉlection de l’organe de révision\nProchains événements et projets\nDivers\n\nVotre soutien est précieux\, venez nombreux·ses ! \nPourquoi soutenir l’association ?  \nEn étant membre de l’association des habitant·es du quartier des Mosaïques\, vous contribuez à dynamiser la vie du quartier en permettant\, à son comité et à ses membres\, de proposer et d’organiser des événements et des projets pour le quartier. \nÊtre membre vous permet en particulier : de proposer et réaliser des projets communs\, d’obtenir un bac pour jardiner\, d’accéder aux futurs services proposés par l’association (exemple : partage de matériels divers\, salle de bricolage\, panier légumes\, salle ado) ou simplement de prendre part à la vie de l’association et de rencontrer des voisin·es ! \n 
URL:https://notre-quartier.ch/LesMosaiques/agenda/ag-constitutive/
CATEGORIES:Public
ATTACH;FMTTYPE=image/png:https://notre-quartier.ch/LesMosaiques/wp-content/uploads/sites/7/2024/02/La-seance-sera-suivie-dun-moment-dechanges-autour-dun-aperitif-Inscrivez-vous-par-sms-au-079-794-15-28-ou-venez-spontanement-a-la-seance-1.png
END:VEVENT
BEGIN:VEVENT
DTSTART;TZID=Europe/Paris:20240316T100000
DTEND;TZID=Europe/Paris:20240316T120000
DTSTAMP:20260423T154815
CREATED:20230413T093151Z
LAST-MODIFIED:20240227T092611Z
UID:10000071-1710583200-1710590400@notre-quartier.ch
SUMMARY:Jardins potagers | Chantier participatif
DESCRIPTION:Quand ? samedi 16 mars \nÀ quelle heure ? de 10h00 à 12h00 \nOù ? rendez-vous aux jardins \nInscription ? par mail à mosaiques@legumesperches.ch (suivre les instructions ci-dessous) \nQue va t’on faire ? Choisir/répartir les parcelles et planter ensemble les premiers plantons. \nDois-je prendre du matériel ? Les outils sont apportés par Légumes Perchés (qui accompagne cette nouvelle aventure). Mettre des habits confortables qu’il est possible de salir. \n\nComment s’inscrire ?\n \n\nUn atelier « Chantier participatif » et une attribution sont organisés ce samedi 16 mars 2024 de 10h00 à 12h00.\nIl est nécessaire que vous soyez présent le 16 mars pour choisir votre parcelle et pouvoir lancer avec Légumes perchés la dynamique de jardin.\nVous devez vous inscrire à cette journée dès maintenant auprès de légumes perchés par mail à : mosaiques@legumesperches.ch en indiquant votre nom\, prénom\, numéro de téléphone et votre adresse.\nSi vous ne pouvez pas être présent le 16 mars\, vous devez aussi vous manifester par mail et spécifier que vous voulez un bac potager\, mais que vous ne pouvez pas être présent.\n\n\nQuelles sont les conditions ? \n\nS’engager à respecter les règles de la charte des jardiniers qui sera présentée et signée lors du chantier participatif du 16 mars.\nÊtre membre de l’association du quartier\, qui assurera la gestion des jardins. La cotisation annuelle sera discutée et validée lors de l’assemblée générale constitutive du vendredi 8 mars. Venez nombreux 😉\n\n\n12 ateliers gratuit pour vous accompagner  \nPour vous aider et vous accompagner dans vos jardins\, Légumes Perchés vous propose 12 ateliers tout au long de l’année. Ces ateliers vous sont offerts. Tous les ateliers ont lieu de 17h45 à 19h15 aux jardins.\nEn savoir plus -> cliquez ici 
URL:https://notre-quartier.ch/LesMosaiques/agenda/ateliers-jardins/
LOCATION:Aux jardins !
ATTACH;FMTTYPE=image/jpeg:https://notre-quartier.ch/LesMosaiques/wp-content/uploads/sites/7/2023/04/vue-aerienne-du-jardinier-masculin-feminin-plantant-plantes-dans-pot-table-bois-scaled.jpg
END:VEVENT
END:VCALENDAR