BEGIN:VCALENDAR
VERSION:2.0
PRODID:-//Les Mosaïques - ECPv6.15.17.1//NONSGML v1.0//EN
CALSCALE:GREGORIAN
METHOD:PUBLISH
X-ORIGINAL-URL:https://notre-quartier.ch/LesMosaiques
X-WR-CALDESC:Évènements pour Les Mosaïques
REFRESH-INTERVAL;VALUE=DURATION:PT1H
X-Robots-Tag:noindex
X-PUBLISHED-TTL:PT1H
BEGIN:VTIMEZONE
TZID:Europe/Paris
BEGIN:DAYLIGHT
TZOFFSETFROM:+0100
TZOFFSETTO:+0200
TZNAME:CEST
DTSTART:20230326T010000
END:DAYLIGHT
BEGIN:STANDARD
TZOFFSETFROM:+0200
TZOFFSETTO:+0100
TZNAME:CET
DTSTART:20231029T010000
END:STANDARD
BEGIN:DAYLIGHT
TZOFFSETFROM:+0100
TZOFFSETTO:+0200
TZNAME:CEST
DTSTART:20240331T010000
END:DAYLIGHT
BEGIN:STANDARD
TZOFFSETFROM:+0200
TZOFFSETTO:+0100
TZNAME:CET
DTSTART:20241027T010000
END:STANDARD
BEGIN:DAYLIGHT
TZOFFSETFROM:+0100
TZOFFSETTO:+0200
TZNAME:CEST
DTSTART:20250330T010000
END:DAYLIGHT
BEGIN:STANDARD
TZOFFSETFROM:+0200
TZOFFSETTO:+0100
TZNAME:CET
DTSTART:20251026T010000
END:STANDARD
END:VTIMEZONE
BEGIN:VEVENT
DTSTART;TZID=Europe/Paris:20241003T174500
DTEND;TZID=Europe/Paris:20241003T191500
DTSTAMP:20260423T081010
CREATED:20231108T141411Z
LAST-MODIFIED:20240919T075105Z
UID:10000086-1727977500-1727982900@notre-quartier.ch
SUMMARY:Atelier jardins: Conservation des légumes\, la lactofermentation
DESCRIPTION:
URL:https://notre-quartier.ch/LesMosaiques/agenda/atelier-jardins-conservation-des-legumes-la-lactofermentation/
CATEGORIES:Public
ATTACH;FMTTYPE=image/png:https://notre-quartier.ch/LesMosaiques/wp-content/uploads/sites/7/2023/11/Capture-decran-2023-11-08-a-15.13.43.png
END:VEVENT
END:VCALENDAR