BEGIN:VCALENDAR
VERSION:2.0
PRODID:-//Les Mosaïques - ECPv6.15.17.1//NONSGML v1.0//EN
CALSCALE:GREGORIAN
METHOD:PUBLISH
X-ORIGINAL-URL:https://notre-quartier.ch/LesMosaiques
X-WR-CALDESC:Évènements pour Les Mosaïques
REFRESH-INTERVAL;VALUE=DURATION:PT1H
X-Robots-Tag:noindex
X-PUBLISHED-TTL:PT1H
BEGIN:VTIMEZONE
TZID:Europe/Paris
BEGIN:DAYLIGHT
TZOFFSETFROM:+0100
TZOFFSETTO:+0200
TZNAME:CEST
DTSTART:20230326T010000
END:DAYLIGHT
BEGIN:STANDARD
TZOFFSETFROM:+0200
TZOFFSETTO:+0100
TZNAME:CET
DTSTART:20231029T010000
END:STANDARD
BEGIN:DAYLIGHT
TZOFFSETFROM:+0100
TZOFFSETTO:+0200
TZNAME:CEST
DTSTART:20240331T010000
END:DAYLIGHT
BEGIN:STANDARD
TZOFFSETFROM:+0200
TZOFFSETTO:+0100
TZNAME:CET
DTSTART:20241027T010000
END:STANDARD
BEGIN:DAYLIGHT
TZOFFSETFROM:+0100
TZOFFSETTO:+0200
TZNAME:CEST
DTSTART:20250330T010000
END:DAYLIGHT
BEGIN:STANDARD
TZOFFSETFROM:+0200
TZOFFSETTO:+0100
TZNAME:CET
DTSTART:20251026T010000
END:STANDARD
END:VTIMEZONE
BEGIN:VEVENT
DTSTART;TZID=Europe/Paris:20240615T094500
DTEND;TZID=Europe/Paris:20240615T121500
DTSTAMP:20260423T131141
CREATED:20230413T094438Z
LAST-MODIFIED:20240527T130059Z
UID:10000072-1718444700-1718453700@notre-quartier.ch
SUMMARY:L'énergie\, mon quartier et moi !
DESCRIPTION:Une matinée consacrée à l’énergie de ton quartier en trois temps se déroulera le samedi 15 juin : \n\nPrésentation sur l’énergie (enjeux\, fonctionnement du quartier).\nDécouverte des installations techniques du quartier par des spécialistes.\net évidemment\, un moment de partage autour d’un petit apéritif !\n\nCette matinée te permettra de comprendre comment l’énergie arrive jusqu’à ton appartement. Les enfants y sont les bienvenus ! \nTu souhaites y participer ? Inscris toi sans plus tarder ! \nInscription : remplir ce formulaire\nÀ quelle heure ? de 9h45 à 12h15\nOù ? rendez-vous à la salle communautaire de Althys (bâtiment 8J)\nOrganisateur : Enoki
URL:https://notre-quartier.ch/LesMosaiques/agenda/lenergie-mon-quartier-et-moi/
ATTACH;FMTTYPE=image/jpeg:https://notre-quartier.ch/LesMosaiques/wp-content/uploads/sites/7/2023/04/panneaux-solaire.jpg
END:VEVENT
END:VCALENDAR