BEGIN:VCALENDAR
VERSION:2.0
PRODID:-//Les Mosaïques - ECPv6.15.17.1//NONSGML v1.0//EN
CALSCALE:GREGORIAN
METHOD:PUBLISH
X-WR-CALNAME:Les Mosaïques
X-ORIGINAL-URL:https://notre-quartier.ch/LesMosaiques
X-WR-CALDESC:Évènements pour Les Mosaïques
REFRESH-INTERVAL;VALUE=DURATION:PT1H
X-Robots-Tag:noindex
X-PUBLISHED-TTL:PT1H
BEGIN:VTIMEZONE
TZID:Europe/Paris
BEGIN:DAYLIGHT
TZOFFSETFROM:+0100
TZOFFSETTO:+0200
TZNAME:CEST
DTSTART:20220327T010000
END:DAYLIGHT
BEGIN:STANDARD
TZOFFSETFROM:+0200
TZOFFSETTO:+0100
TZNAME:CET
DTSTART:20221030T010000
END:STANDARD
BEGIN:DAYLIGHT
TZOFFSETFROM:+0100
TZOFFSETTO:+0200
TZNAME:CEST
DTSTART:20230326T010000
END:DAYLIGHT
BEGIN:STANDARD
TZOFFSETFROM:+0200
TZOFFSETTO:+0100
TZNAME:CET
DTSTART:20231029T010000
END:STANDARD
BEGIN:DAYLIGHT
TZOFFSETFROM:+0100
TZOFFSETTO:+0200
TZNAME:CEST
DTSTART:20240331T010000
END:DAYLIGHT
BEGIN:STANDARD
TZOFFSETFROM:+0200
TZOFFSETTO:+0100
TZNAME:CET
DTSTART:20241027T010000
END:STANDARD
END:VTIMEZONE
BEGIN:VEVENT
DTSTART;TZID=Europe/Paris:20231130T183000
DTEND;TZID=Europe/Paris:20231130T200000
DTSTAMP:20260423T205747
CREATED:20230718T135413Z
LAST-MODIFIED:20230914T153255Z
UID:10000075-1701369000-1701374400@notre-quartier.ch
SUMMARY:Rencontre vie de quartier | Groupes de travail
DESCRIPTION:Jardins potagers\, fête des voisin·e·s\, activités pour enfants\, soirée jeux\, plantation d’arbres\, ateliers de peinture\, pedibus ?  \nDe nombreux projets et activités peuvent être mis en place lorsque l’on rassemble nos forces ! \nParticipe à la deuxième rencontre pour mettre en place les projets et activités retenus.  \nPlus d’informations suivront\, réserve déjà la date dans ton agenda !
URL:https://notre-quartier.ch/LesMosaiques/agenda/dynamiser-notre-quartier-ensemble-activites-et-projets/
ATTACH;FMTTYPE=image/jpeg:https://notre-quartier.ch/LesMosaiques/wp-content/uploads/sites/7/2022/03/2022-04_Accompagnement.jpg
END:VEVENT
END:VCALENDAR